BEGIN:VCALENDAR
VERSION:2.0
PRODID:-//Taste-Buds - ECPv6.15.20//NONSGML v1.0//EN
CALSCALE:GREGORIAN
METHOD:PUBLISH
X-WR-CALNAME:Taste-Buds
X-ORIGINAL-URL:https://www.taste-buds.co.za
X-WR-CALDESC:Events for Taste-Buds
REFRESH-INTERVAL;VALUE=DURATION:PT1H
X-Robots-Tag:noindex
X-PUBLISHED-TTL:PT1H
BEGIN:VTIMEZONE
TZID:Africa/Johannesburg
BEGIN:STANDARD
TZOFFSETFROM:+0200
TZOFFSETTO:+0200
TZNAME:SAST
DTSTART:20190101T000000
END:STANDARD
END:VTIMEZONE
BEGIN:VEVENT
DTSTART;TZID=Africa/Johannesburg:20200905T100000
DTEND;TZID=Africa/Johannesburg:20200905T130000
DTSTAMP:20260421T234927
CREATED:20200821T153141Z
LAST-MODIFIED:20200821T153141Z
UID:1981-1599300000-1599310800@www.taste-buds.co.za
SUMMARY:Sushi Making Class
DESCRIPTION:Learn the Intricate Art of how to make Sushi! \nOur Sushi classes are hands on\, fun-filled Sushi Making Sessions\, taught by our Guest Chef Miyamoto! \nThe class will start with a demonstration by Chef Miyamoto and hands on making of two different kinds of sushi\, then Chef Miyamoto will demonstrate how to make prawn tempura\, and method of plating sushi. \nHands on making of sushi by guests to make their own:\nPrawn tempura California rolls\nSalmon Tekka\nCubed marinated salmon\nwith steamed rice and chopped Takuan\ntopped with Kiri nori (julienne seaweed) \nSushi Class Dates for 2020: \nSaturday 5th September 2020 \nCost R580 per person \nStart Time\, 09h45 Arrival and class will start at 10h00 sharp\, and you will be finished by no later than 13h30pm.  \nThe cost of the course incudes a welcome drink on arrival\, a Chef’s Hat\, the use of our Apron for the event\, all your ingredients\, and all utensils required.\, as well as Tea\, Coffee and Water. \nShould you be interested\, we will have Sushi Starter kits for sale @ R380 per kit. \nTo Book please mail info@taste-buds.co.za \n\n		Facebook Comments
URL:https://www.taste-buds.co.za/event/sushi-making-class/
CATEGORIES:Public class
ATTACH;FMTTYPE=image/jpeg:https://www.taste-buds.co.za/wp-content/uploads/2013/05/event_sushi1.jpg
END:VEVENT
END:VCALENDAR