BEGIN:VCALENDAR
VERSION:2.0
PRODID:-//Taste-Buds - ECPv6.15.20//NONSGML v1.0//EN
CALSCALE:GREGORIAN
METHOD:PUBLISH
X-WR-CALNAME:Taste-Buds
X-ORIGINAL-URL:https://www.taste-buds.co.za
X-WR-CALDESC:Events for Taste-Buds
REFRESH-INTERVAL;VALUE=DURATION:PT1H
X-Robots-Tag:noindex
X-PUBLISHED-TTL:PT1H
BEGIN:VTIMEZONE
TZID:Africa/Johannesburg
BEGIN:STANDARD
TZOFFSETFROM:+0200
TZOFFSETTO:+0200
TZNAME:SAST
DTSTART:20190101T000000
END:STANDARD
END:VTIMEZONE
BEGIN:VEVENT
DTSTART;TZID=Africa/Johannesburg:20200811T174500
DTEND;TZID=Africa/Johannesburg:20200811T200000
DTSTAMP:20260420T221528
CREATED:20200720T114744Z
LAST-MODIFIED:20200720T114744Z
UID:1912-1597167900-1597176000@www.taste-buds.co.za
SUMMARY:French Cooking Class
DESCRIPTION:Fabulous French Cooking Class\nFrench cuisine sounds fancy\, conjuring up images of anniversary date night and once-in-a-lifetime trips to Paris. But with the right ingredients and techniques\, you can create amazing French meals on an average weeknight in your very own kitchen. It’s about the pleasure of sitting down\, enjoying family\, company\, and fantastic food! Bon appétit!\nClass Dates: \nTuesday 11th August 2020 \nClass starts at 18h30 Cost R500 per person \nTo book please mail: info@taste-buds.co.za
URL:https://www.taste-buds.co.za/event/french-cooking-class/
LOCATION:Taste-Buds Cook Club\, 885 Peter Road\, Honeydew\, Gauteng\, 1734\, South Africa
CATEGORIES:Public class
ATTACH;FMTTYPE=image/jpeg:https://www.taste-buds.co.za/wp-content/uploads/2013/05/FRENCH.jpg
ORGANIZER;CN="Geordie":MAILTO:info@taste-buds.co.za
END:VEVENT
END:VCALENDAR