BEGIN:VCALENDAR
VERSION:2.0
PRODID:-//Taste-Buds - ECPv6.15.20//NONSGML v1.0//EN
CALSCALE:GREGORIAN
METHOD:PUBLISH
X-WR-CALNAME:Taste-Buds
X-ORIGINAL-URL:https://www.taste-buds.co.za
X-WR-CALDESC:Events for Taste-Buds
REFRESH-INTERVAL;VALUE=DURATION:PT1H
X-Robots-Tag:noindex
X-PUBLISHED-TTL:PT1H
BEGIN:VTIMEZONE
TZID:Africa/Johannesburg
BEGIN:STANDARD
TZOFFSETFROM:+0200
TZOFFSETTO:+0200
TZNAME:SAST
DTSTART:20200101T000000
END:STANDARD
END:VTIMEZONE
BEGIN:VEVENT
DTSTART;TZID=Africa/Johannesburg:20210805T174500
DTEND;TZID=Africa/Johannesburg:20210805T213000
DTSTAMP:20260424T051344
CREATED:20210715T072645Z
LAST-MODIFIED:20210715T072645Z
UID:2527-1628185500-1628199000@www.taste-buds.co.za
SUMMARY:Winter Warmers Cooking Class
DESCRIPTION:Winter is well and truly upon us\, boy is it chilly today. I don’t know about you\, but my first instinct was to go into hibernation! Luckily our Winters are normally quite pleasant and quick\, so hang tight\, that beautiful crisp blue sky will be out soon.\nInstead of hibernating this Winter though\, why not join us in the kitchen?  Learn to make delicious comfort food that is sure to warm the heart as well as your tummy! \nWe are delighted to introduce our Winter Speciality Class\, aimed at making delicious\, homemade pies and hotpots.  Perfect for these chilly winter nights! \nCome and try your hand\, working with puff pastry\, short crust pastry and phyllo pastry\, creating mouthwatering pies that will be the envy of all your friends.\nTasty pie fillings made in casseroles and hotpots will fill the air with an aroma to die for! \nDate of Class : Thursday 5th August 2021 \nTime of Class : 17h45
URL:https://www.taste-buds.co.za/event/winter-warmers-cooking-class/
LOCATION:Taste-Buds Cook Club\, 885 Peter Road\, Honeydew\, Gauteng\, 1734\, South Africa
CATEGORIES:Public class
ATTACH;FMTTYPE=image/jpeg:https://www.taste-buds.co.za/wp-content/uploads/2015/06/WINTER.jpg
ORGANIZER;CN="Geordie":MAILTO:info@taste-buds.co.za
END:VEVENT
END:VCALENDAR