BEGIN:VCALENDAR
VERSION:2.0
PRODID:-//Taste-Buds - ECPv6.15.20//NONSGML v1.0//EN
CALSCALE:GREGORIAN
METHOD:PUBLISH
X-WR-CALNAME:Taste-Buds
X-ORIGINAL-URL:https://www.taste-buds.co.za
X-WR-CALDESC:Events for Taste-Buds
REFRESH-INTERVAL;VALUE=DURATION:PT1H
X-Robots-Tag:noindex
X-PUBLISHED-TTL:PT1H
BEGIN:VTIMEZONE
TZID:Africa/Johannesburg
BEGIN:STANDARD
TZOFFSETFROM:+0200
TZOFFSETTO:+0200
TZNAME:SAST
DTSTART:20210101T000000
END:STANDARD
END:VTIMEZONE
BEGIN:VEVENT
DTSTART;TZID=Africa/Johannesburg:20221025T173000
DTEND;TZID=Africa/Johannesburg:20221025T220000
DTSTAMP:20260422T183325
CREATED:20220919T082341Z
LAST-MODIFIED:20220919T082341Z
UID:3229-1666719000-1666735200@www.taste-buds.co.za
SUMMARY:Summer Sensation Cooking Class
DESCRIPTION:
URL:https://www.taste-buds.co.za/event/summer-sensation-cooking-class/
LOCATION:Taste-Buds Cook Club\, 885 Peter Road\, Honeydew\, Gauteng\, 1734\, South Africa
CATEGORIES:Public class
ATTACH;FMTTYPE=image/jpeg:https://www.taste-buds.co.za/wp-content/uploads/2017/08/skovtur1.jpg
ORGANIZER;CN="Geordie":MAILTO:info@taste-buds.co.za
END:VEVENT
END:VCALENDAR