BEGIN:VCALENDAR
VERSION:2.0
PRODID:-//Taste-Buds - ECPv6.15.20//NONSGML v1.0//EN
CALSCALE:GREGORIAN
METHOD:PUBLISH
X-WR-CALNAME:Taste-Buds
X-ORIGINAL-URL:https://www.taste-buds.co.za
X-WR-CALDESC:Events for Taste-Buds
REFRESH-INTERVAL;VALUE=DURATION:PT1H
X-Robots-Tag:noindex
X-PUBLISHED-TTL:PT1H
BEGIN:VTIMEZONE
TZID:Africa/Johannesburg
BEGIN:STANDARD
TZOFFSETFROM:+0200
TZOFFSETTO:+0200
TZNAME:SAST
DTSTART:20250101T000000
END:STANDARD
END:VTIMEZONE
BEGIN:VEVENT
DTSTART;TZID=Africa/Johannesburg:20260411T090000
DTEND;TZID=Africa/Johannesburg:20260411T133000
DTSTAMP:20260421T111536
CREATED:20260407T140445Z
LAST-MODIFIED:20260407T140445Z
UID:4607-1775898000-1775914200@www.taste-buds.co.za
SUMMARY:Cheese Making Class
DESCRIPTION:Join us in the Kitchen to make delicious homemade Mozzarella and Cheddar cheese with products readily available in our local stores. \nYou will get to learn the correct temperatures\, and techniques to make affordable yet tasty cheese. \nWe send you home with a cheese cloth\, bamboo spatula and some milk to start your journey. \nThe cost per class is R700 per person. \nDates : \n11 April 2026 @ 09h00 \nBookings : info@taste-buds.co.za
URL:https://www.taste-buds.co.za/event/cheese-making-class/
LOCATION:Taste-Buds Cook Club\, 885 Peter Road\, Honeydew\, Gauteng\, 1734\, South Africa
CATEGORIES:Public class
ATTACH;FMTTYPE=image/jpeg:https://www.taste-buds.co.za/wp-content/uploads/2026/04/Cheese-Class-11th-April-2026.jpg
ORGANIZER;CN="Taste-Buds Cook Club":MAILTO:info@taste-buds.co.za
END:VEVENT
BEGIN:VEVENT
DTSTART;TZID=Africa/Johannesburg:20260411T180000
DTEND;TZID=Africa/Johannesburg:20260411T220000
DTSTAMP:20260421T111536
CREATED:20260313T110450Z
LAST-MODIFIED:20260313T110450Z
UID:4586-1775930400-1775944800@www.taste-buds.co.za
SUMMARY:Meet and Greet Cooking Class
DESCRIPTION:Want to meet new people but prefer to stay out of the pubs? \nJoin us in the kitchen and meet like-minded people around the stove.  Learn to make some delicious food in the process and build a friendship circle like no other. \nDates: \nFriday 20th March 2026 @ 18h00 \nSaturday 11th April 2026 @ 18h00 \nSaturday 18th April 2026 @ 18h00 \nCost: R650 per person \nBookings: info@taste-buds.co.za
URL:https://www.taste-buds.co.za/event/meet-and-greet-cooking-class-2/
LOCATION:Taste-Buds Cook Club\, 885 Peter Road\, Honeydew\, Gauteng\, 1734\, South Africa
CATEGORIES:Private event
ATTACH;FMTTYPE=image/jpeg:https://www.taste-buds.co.za/wp-content/uploads/2026/03/Meet-and-greet-11-April.jpg
ORGANIZER;CN="Taste-Buds Cook Club":MAILTO:info@taste-buds.co.za
END:VEVENT
END:VCALENDAR