BEGIN:VCALENDAR
VERSION:2.0
PRODID:-//Taste-Buds - ECPv6.15.20//NONSGML v1.0//EN
CALSCALE:GREGORIAN
METHOD:PUBLISH
X-WR-CALNAME:Taste-Buds
X-ORIGINAL-URL:https://www.taste-buds.co.za
X-WR-CALDESC:Events for Taste-Buds
REFRESH-INTERVAL;VALUE=DURATION:PT1H
X-Robots-Tag:noindex
X-PUBLISHED-TTL:PT1H
BEGIN:VTIMEZONE
TZID:Africa/Johannesburg
BEGIN:STANDARD
TZOFFSETFROM:+0200
TZOFFSETTO:+0200
TZNAME:SAST
DTSTART:20250101T000000
END:STANDARD
END:VTIMEZONE
BEGIN:VEVENT
DTSTART;TZID=Africa/Johannesburg:20260416T180000
DTEND;TZID=Africa/Johannesburg:20260416T220000
DTSTAMP:20260424T154732
CREATED:20260313T113747Z
LAST-MODIFIED:20260313T113747Z
UID:4596-1776362400-1776376800@www.taste-buds.co.za
SUMMARY:Around the World in 80 Dishes
DESCRIPTION:Explore different countries and cuisine with our “around the world” cooking classes\, learn how to make dishes for a variety of cultures and countries. \n\nA vibrant blend of flavours and cultures to tickle your Taste-Buds \n\nDate: \nSaturday 21st March 2026 @ 18h00 \nThursday 16th April 2026 @ 18h00 \nCost: R650 per person \nBookings: info@taste-buds.co.za
URL:https://www.taste-buds.co.za/event/around-the-world-in-80-dishes/
LOCATION:Taste-Buds Cook Club\, 885 Peter Road\, Honeydew\, Gauteng\, 1734\, South Africa
CATEGORIES:Public class
ATTACH;FMTTYPE=image/jpeg:https://www.taste-buds.co.za/wp-content/uploads/2023/08/pexels-chan-walrus-958545-scaled.jpg
ORGANIZER;CN="Taste-Buds Cook Club":MAILTO:info@taste-buds.co.za
END:VEVENT
END:VCALENDAR