BEGIN:VCALENDAR
VERSION:2.0
PRODID:-//Taste-Buds - ECPv6.15.20//NONSGML v1.0//EN
CALSCALE:GREGORIAN
METHOD:PUBLISH
X-WR-CALNAME:Taste-Buds
X-ORIGINAL-URL:https://www.taste-buds.co.za
X-WR-CALDESC:Events for Taste-Buds
REFRESH-INTERVAL;VALUE=DURATION:PT1H
X-Robots-Tag:noindex
X-PUBLISHED-TTL:PT1H
BEGIN:VTIMEZONE
TZID:Africa/Johannesburg
BEGIN:STANDARD
TZOFFSETFROM:+0200
TZOFFSETTO:+0200
TZNAME:SAST
DTSTART:20230101T000000
END:STANDARD
END:VTIMEZONE
BEGIN:VEVENT
DTSTART;TZID=Africa/Johannesburg:20241121T080000
DTEND;TZID=Africa/Johannesburg:20241121T170000
DTSTAMP:20260423T185756
CREATED:20230829T071951Z
LAST-MODIFIED:20240109T092554Z
UID:3965-1732176000-1732208400@www.taste-buds.co.za
SUMMARY:A Taste of the World from Taste-Buds
DESCRIPTION:Choose to cook between French|Greek|Moroccan\n  \nFrench: Indulge yourself in a rich and creamy class filled with cheeses and flavours to warm your heart. France is a haven for food and wine enthusiasts of all levels\, and French cuisine is a palate-expanding experience everyone should have. It’s meant to unfold\, so it’s a really relaxing moment at the end of the day. \nGreek: Meals made for sharing\, from the veggie Crispy Greek-style pies\, to dips\, breads\, and tender lamb dishes. A wide variety of healthy flavourful food\, full of colour. \nMoroccan: The cuisine of Morocco is rated among the best in the world\, and rightly so. There are few places where food is more carefully and artistically prepared\, more delightfully served\, and more enjoyed than in this country. \nThursday 21st November 2024 \nClass starts at 17h45 for 18h00 and costs R580 per person \nTo book please mail: info@taste-buds.co.za 
URL:https://www.taste-buds.co.za/event/a-taste-of-the-world-from-taste-buds-11/
LOCATION:Taste-Buds Cook Club\, 885 Peter Road\, Honeydew\, Gauteng\, 1734\, South Africa
CATEGORIES:A Taste of the World from Taste-Buds,Public class
ATTACH;FMTTYPE=image/jpeg:https://www.taste-buds.co.za/wp-content/uploads/2014/04/pexels-jenny-sirimis-10780004-scaled.jpg
ORGANIZER;CN="Taste-Buds Cook Club":MAILTO:info@taste-buds.co.za
END:VEVENT
END:VCALENDAR