BEGIN:VCALENDAR
VERSION:2.0
PRODID:-//Taste-Buds - ECPv6.15.20//NONSGML v1.0//EN
CALSCALE:GREGORIAN
METHOD:PUBLISH
X-WR-CALNAME:Taste-Buds
X-ORIGINAL-URL:https://www.taste-buds.co.za
X-WR-CALDESC:Events for Taste-Buds
REFRESH-INTERVAL;VALUE=DURATION:PT1H
X-Robots-Tag:noindex
X-PUBLISHED-TTL:PT1H
BEGIN:VTIMEZONE
TZID:Africa/Johannesburg
BEGIN:STANDARD
TZOFFSETFROM:+0200
TZOFFSETTO:+0200
TZNAME:SAST
DTSTART:20250101T000000
END:STANDARD
END:VTIMEZONE
BEGIN:VEVENT
DTSTART;TZID=Africa/Johannesburg:20260331T083000
DTEND;TZID=Africa/Johannesburg:20260331T123000
DTSTAMP:20260426T025134
CREATED:20260313T082605Z
LAST-MODIFIED:20260313T083007Z
UID:4567-1774945800-1774960200@www.taste-buds.co.za
SUMMARY:Kids Holiday Cooking Classes
DESCRIPTION:Not going away? Are your kids bored at home?  Why not let them come and join us for a morning of fun and excitement in the kitchen. \nWe will teach them skills which are age appropriate and they will be baking and cooking up a storm in no time. \nDate : Tuesday 31st March 2026 \nWednesday 1st April 2026 \nThursday 2nd April 2026 \nTime : 08h30 start until approximately 12h30 \nWhat to Bring : yourself and a willingness to learn \nPrice: R550 \nplease let us know if there are any food allergies \nTo book : please mail info@taste-buds.co.za
URL:https://www.taste-buds.co.za/event/kids-club-cooking-classes/
LOCATION:Taste-Buds Cook Club\, 885 Peter Road\, Honeydew\, Gauteng\, 1734\, South Africa
CATEGORIES:Kids cooking class
ATTACH;FMTTYPE=image/jpeg:https://www.taste-buds.co.za/wp-content/uploads/2023/08/cooking-4299302_1280.jpg
ORGANIZER;CN="Taste-Buds Cook Club":MAILTO:info@taste-buds.co.za
END:VEVENT
END:VCALENDAR