BEGIN:VCALENDAR
VERSION:2.0
PRODID:-//Taste-Buds - ECPv6.15.20//NONSGML v1.0//EN
CALSCALE:GREGORIAN
METHOD:PUBLISH
X-ORIGINAL-URL:https://www.taste-buds.co.za
X-WR-CALDESC:Events for Taste-Buds
REFRESH-INTERVAL;VALUE=DURATION:PT1H
X-Robots-Tag:noindex
X-PUBLISHED-TTL:PT1H
BEGIN:VTIMEZONE
TZID:Africa/Johannesburg
BEGIN:STANDARD
TZOFFSETFROM:+0200
TZOFFSETTO:+0200
TZNAME:SAST
DTSTART:20210101T000000
END:STANDARD
END:VTIMEZONE
BEGIN:VEVENT
DTSTART;TZID=Africa/Johannesburg:20220113T174500
DTEND;TZID=Africa/Johannesburg:20220113T220000
DTSTAMP:20260424T173413
CREATED:20220106T090446Z
LAST-MODIFIED:20220106T090446Z
UID:2790-1642095900-1642111200@www.taste-buds.co.za
SUMMARY:Italian and Homemade Pasta Cooking Class
DESCRIPTION:There is nothing more tasty and enjoyable that home-made pasta and delicious sauces\, once you have tried this you will never go back to store bought pasta. It really is great and you can involve the kids too at home with rolling and shaping. Along with other awesome Italian dishes\, this is the class to do. \nClass Dates:  \nTuesday 13th January 2022 \nSaturday 29th January 2022 – starting at 11h30 \nClass Starts at 17h45 and costs R540 per person
URL:https://www.taste-buds.co.za/event/italian-and-homemade-pasta-cooking-class-8/
LOCATION:Taste-Buds Cook Club\, 885 Peter Road\, Honeydew\, Gauteng\, 1734\, South Africa
CATEGORIES:Public class
ATTACH;FMTTYPE=image/jpeg:https://www.taste-buds.co.za/wp-content/uploads/2020/08/Italian.jpg
ORGANIZER;CN="Geordie":MAILTO:info@taste-buds.co.za
END:VEVENT
BEGIN:VEVENT
DTSTART;TZID=Africa/Johannesburg:20220114T174500
DTEND;TZID=Africa/Johannesburg:20220114T220000
DTSTAMP:20260424T173413
CREATED:20220104T161910Z
LAST-MODIFIED:20220104T161910Z
UID:2763-1642182300-1642197600@www.taste-buds.co.za
SUMMARY:Romantic Couples Cooking Class
DESCRIPTION:Our Romantic Couples evening is destined to be a date night with a difference. A dining experience where you spoil each other with a range of the top 10 aphrodisiac foods. \nThe beauty of this date is that you get to go home after a fun\, relaxed evening to no dishes to do. \nIt will be a night to remember! \n2022 Romantic Couples Class Dates:  \nFriday 14th January 2022 \nFriday 28th January 2022 \nFriday 25th February 2022 \nFriday 11th March 2022 \nFriday 25th March 2022 \nFriday 8th April 2022 \nFriday 22nd April 2022 \nFriday 6th May 2022Cddddddd \nFriday 20th May 2022 \nFriday 3rd June 2022 \nClass starts at 17h45 and costs R525 per person ( R1050 per couple) \nBookings: info@taste-buds.co.za
URL:https://www.taste-buds.co.za/event/romantic-couples-cooking-class-29/
LOCATION:Taste-Buds Cook Club\, 885 Peter Road\, Honeydew\, Gauteng\, 1734\, South Africa
CATEGORIES:Public class
ATTACH;FMTTYPE=image/jpeg:https://www.taste-buds.co.za/wp-content/uploads/2015/01/Wine-Rose-Valentines1-smallest-1.jpg
ORGANIZER;CN="Geordie":MAILTO:info@taste-buds.co.za
END:VEVENT
BEGIN:VEVENT
DTSTART;TZID=Africa/Johannesburg:20220118T174500
DTEND;TZID=Africa/Johannesburg:20220118T220000
DTSTAMP:20260424T173413
CREATED:20220106T091047Z
LAST-MODIFIED:20220106T091047Z
UID:2794-1642527900-1642543200@www.taste-buds.co.za
SUMMARY:Tantalizing Thai Cooking Class
DESCRIPTION:Thai Cooking Class \nThe subtle mixing of herbs and spices and market fresh ingredients makes this a special culinary experience. Treat yourself and someone special to something spectacular!\nLearn the correct combinations of sweet\, sour\, bitter\, salty and the gentle addition of heat\, make your own home made curry paste from scratch. \nClass Dates for 2022 \nTuesday 18th January 2022 \nClass starts at 17h45 and Cost R540 per person \n  \nTo book\, email info@tate-buds.co.za
URL:https://www.taste-buds.co.za/event/tantalizing-thai-cooking-class-6/
LOCATION:Taste-Buds Cook Club\, 885 Peter Road\, Honeydew\, Gauteng\, 1734\, South Africa
CATEGORIES:Public class
ATTACH;FMTTYPE=image/jpeg:https://www.taste-buds.co.za/wp-content/uploads/2020/08/Thai-scaled.jpg
ORGANIZER;CN="Geordie":MAILTO:info@taste-buds.co.za
END:VEVENT
BEGIN:VEVENT
DTSTART;TZID=Africa/Johannesburg:20220120T174500
DTEND;TZID=Africa/Johannesburg:20220120T220000
DTSTAMP:20260424T173413
CREATED:20220106T091358Z
LAST-MODIFIED:20220106T091358Z
UID:2796-1642700700-1642716000@www.taste-buds.co.za
SUMMARY:Mexican Fiesta Cooking Class
DESCRIPTION:Mexican Fiesta\nPut on your sombrero and join us for a Tequila and Mexican Fiesta. Authentic Mexican food is vibrant\, delicious\, fresh and fun. Come and spoil your taste buds with Enchiladas\, Nachos\, Chimichangas\, and Churros\, all topped by our famous Guacamole and Salsa with a difference.\nTasty but not hot\, for all palates\, and those who want to spice it up further can do so. \nClass Dates: \nThursday 20th January 2022 \nClass starts at 17h45 and Cost R420 per person\nTo book please mail: info@taste-buds.co.za
URL:https://www.taste-buds.co.za/event/mexican-fiesta-cooking-class-3/
LOCATION:Taste-Buds Cook Club\, 885 Peter Road\, Honeydew\, Gauteng\, 1734\, South Africa
CATEGORIES:Public class
ATTACH;FMTTYPE=image/jpeg:https://www.taste-buds.co.za/wp-content/uploads/2020/09/Mexican-1.jpg
ORGANIZER;CN="Geordie":MAILTO:info@taste-buds.co.za
END:VEVENT
BEGIN:VEVENT
DTSTART;TZID=Africa/Johannesburg:20220125T174500
DTEND;TZID=Africa/Johannesburg:20220125T220000
DTSTAMP:20260424T173413
CREATED:20220106T092444Z
LAST-MODIFIED:20220106T092444Z
UID:2798-1643132700-1643148000@www.taste-buds.co.za
SUMMARY:Spanish / Moroccan Cooking Class
DESCRIPTION:Blending the vibrant taste of Spain with the warm and delicious blend of herbs and spices of Morocco. \nFrom an authentic Paella to delicious tapas and a smooth blend of Moroccan delicacies.  This is the class to do! \n 
URL:https://www.taste-buds.co.za/event/spanish-moroccan-cooking-class/
LOCATION:Taste-Buds Cook Club\, 885 Peter Road\, Honeydew\, Gauteng\, 1734\, South Africa
CATEGORIES:Public class
ATTACH;FMTTYPE=image/jpeg:https://www.taste-buds.co.za/wp-content/uploads/2020/08/Spanish-Tortilla.jpg
ORGANIZER;CN="Geordie":MAILTO:info@taste-buds.co.za
END:VEVENT
BEGIN:VEVENT
DTSTART;TZID=Africa/Johannesburg:20220127T174500
DTEND;TZID=Africa/Johannesburg:20220127T220000
DTSTAMP:20260424T173413
CREATED:20220106T092846Z
LAST-MODIFIED:20220106T092846Z
UID:2800-1643305500-1643320800@www.taste-buds.co.za
SUMMARY:Greek and Mediterranean Cooking Class
DESCRIPTION:Mediterranean & Greek Class \nMeals made for sharing\, from the veggie Crispy Greek-style pies\, to dips\, breads\, and tender lamb dishes. A wide variety of healthy flavourful food\, full of colour. \nThere’s something for every taste-bud. \nGreek Saying Literal English Translation: “Life is like a cucumber\, one person eats it and is refreshed\, and another person eats it and struggles.” \nWhat the Greeks really mean: “Life is simply what you make of it.” \nClass Dates: \nThursday 27th January 2022 \nAll Classes start at 17h45 and cost R540 per person
URL:https://www.taste-buds.co.za/event/greek-and-mediterranean-cooking-class-8/
LOCATION:Taste-Buds Cook Club\, 885 Peter Road\, Honeydew\, Gauteng\, 1734\, South Africa
CATEGORIES:Public class
ATTACH;FMTTYPE=image/jpeg:https://www.taste-buds.co.za/wp-content/uploads/2020/08/greek-1.jpg
ORGANIZER;CN="Geordie":MAILTO:info@taste-buds.co.za
END:VEVENT
BEGIN:VEVENT
DTSTART;TZID=Africa/Johannesburg:20220128T174500
DTEND;TZID=Africa/Johannesburg:20220128T220000
DTSTAMP:20260424T173413
CREATED:20220104T162137Z
LAST-MODIFIED:20220104T162137Z
UID:2765-1643391900-1643407200@www.taste-buds.co.za
SUMMARY:Romantic Couples Cooking Class
DESCRIPTION:Our Romantic Couples evening is destined to be a date night with a difference. A dining experience where you spoil each other with a range of the top 10 aphrodisiac foods. \nThe beauty of this date is that you get to go home after a fun\, relaxed evening to no dishes to do. \nIt will be a night to remember! \n2022 Romantic Couples Class Dates:  \nFriday 14th January 2022 \nFriday 28th January 2022 \nFriday 25th February 2022 \nFriday 11th March 2022 \nFriday 25th March 2022 \nFriday 8th April 2022 \nFriday 22nd April 2022 \nFriday 6th May 2022 \nFriday 20th May 2022 \nFriday 3rd June 2022 \nClass starts at 17h45 and costs R525 per person ( R1050 per couple) \nBookings: info@taste-buds.co.za
URL:https://www.taste-buds.co.za/event/romantic-couples-cooking-class-30/
LOCATION:Taste-Buds Cook Club\, 885 Peter Road\, Honeydew\, Gauteng\, 1734\, South Africa
CATEGORIES:Public class
ATTACH;FMTTYPE=image/jpeg:https://www.taste-buds.co.za/wp-content/uploads/2015/01/Wine-Rose-Valentines1-smallest-1.jpg
ORGANIZER;CN="Geordie":MAILTO:info@taste-buds.co.za
END:VEVENT
BEGIN:VEVENT
DTSTART;TZID=Africa/Johannesburg:20220129T113000
DTEND;TZID=Africa/Johannesburg:20220129T160000
DTSTAMP:20260424T173413
CREATED:20220106T090641Z
LAST-MODIFIED:20220106T090641Z
UID:2792-1643455800-1643472000@www.taste-buds.co.za
SUMMARY:Italian and Homemade Pasta Class
DESCRIPTION:There is nothing more tasty and enjoyable that home-made pasta and delicious sauces\, once you have tried this you will never go back to store bought pasta. It really is great and you can involve the kids too at home with rolling and shaping. Along with other awesome Italian dishes\, this is the class to do. \nClass Dates:  \nTuesday 13th January 2022 \nSaturday 29th January 2022 – starting at 11h30 \nClass Starts at 17h45 and costs R540 per person
URL:https://www.taste-buds.co.za/event/italian-and-homemade-pasta-class-8/
LOCATION:Taste-Buds Cook Club\, 885 Peter Road\, Honeydew\, Gauteng\, 1734\, South Africa
CATEGORIES:Public class
ATTACH;FMTTYPE=image/jpeg:https://www.taste-buds.co.za/wp-content/uploads/2020/08/Italian.jpg
ORGANIZER;CN="Geordie":MAILTO:info@taste-buds.co.za
END:VEVENT
END:VCALENDAR